BEGIN:VCALENDAR
VERSION:2.0
PRODID:-//Erika Boyer - ECPv6.15.20//NONSGML v1.0//EN
CALSCALE:GREGORIAN
METHOD:PUBLISH
X-ORIGINAL-URL:https://erikaboyer.com
X-WR-CALDESC:Évènements pour Erika Boyer
REFRESH-INTERVAL;VALUE=DURATION:PT1H
X-Robots-Tag:noindex
X-PUBLISHED-TTL:PT1H
BEGIN:VTIMEZONE
TZID:Europe/Paris
BEGIN:DAYLIGHT
TZOFFSETFROM:+0100
TZOFFSETTO:+0200
TZNAME:CEST
DTSTART:20220327T010000
END:DAYLIGHT
BEGIN:STANDARD
TZOFFSETFROM:+0200
TZOFFSETTO:+0100
TZNAME:CET
DTSTART:20221030T010000
END:STANDARD
BEGIN:DAYLIGHT
TZOFFSETFROM:+0100
TZOFFSETTO:+0200
TZNAME:CEST
DTSTART:20230326T010000
END:DAYLIGHT
BEGIN:STANDARD
TZOFFSETFROM:+0200
TZOFFSETTO:+0100
TZNAME:CET
DTSTART:20231029T010000
END:STANDARD
BEGIN:DAYLIGHT
TZOFFSETFROM:+0100
TZOFFSETTO:+0200
TZNAME:CEST
DTSTART:20240331T010000
END:DAYLIGHT
BEGIN:STANDARD
TZOFFSETFROM:+0200
TZOFFSETTO:+0100
TZNAME:CET
DTSTART:20241027T010000
END:STANDARD
END:VTIMEZONE
BEGIN:VEVENT
DTSTART;VALUE=DATE:20230513
DTEND;VALUE=DATE:20230515
DTSTAMP:20260421T160127
CREATED:20221013T053444Z
LAST-MODIFIED:20221013T082113Z
UID:10819-1683936000-1684108799@erikaboyer.com
SUMMARY:Salon Romance Fever
DESCRIPTION:Le premier salon littéraire dédié à la romance dans le Sud de la France !\nDe nombreux auteurs (surtout des autrices) vous attendent. L’occasion pour vous de rencontrer vos écrivaines et écrivains préféré(e)s\, de découvrir de nouveaux talents et\, surtout\, de repartir avec un exemplaire dédicacé. \nLes 13 et 14 mai\, je participerai à la deuxième édition du salon Romance Fever (anciennement Romance Addict) avec une grande partie de la French Team New Romance ! Je viendrai avec les copines pour passer un week-end sous le signe de la romance en votre compagnie ♡ Vous pourrez venir me voir\, acheter mes livres (de chez Hugo Publishing ou en auto-édition)\, les faire dédicacer\, discuter\, rire… Bref\, passer un bon moment avec moi !
URL:https://erikaboyer.com/evenement/salon-romance-fever/
LOCATION:Vendargues\, 20 Av. de la Gare\, Vendargues\, 34740\, France
CATEGORIES:Salon
ATTACH;FMTTYPE=image/jpeg:https://erikaboyer.com/wp-content/uploads/2022/10/romacefever.jpeg
END:VEVENT
END:VCALENDAR