BEGIN:VCALENDAR
VERSION:2.0
PRODID:-//Erika Boyer - ECPv6.15.20//NONSGML v1.0//EN
CALSCALE:GREGORIAN
METHOD:PUBLISH
X-WR-CALNAME:Erika Boyer
X-ORIGINAL-URL:https://erikaboyer.com
X-WR-CALDESC:Évènements pour Erika Boyer
REFRESH-INTERVAL;VALUE=DURATION:PT1H
X-Robots-Tag:noindex
X-PUBLISHED-TTL:PT1H
BEGIN:VTIMEZONE
TZID:Europe/Paris
BEGIN:DAYLIGHT
TZOFFSETFROM:+0100
TZOFFSETTO:+0200
TZNAME:CEST
DTSTART:20240331T010000
END:DAYLIGHT
BEGIN:STANDARD
TZOFFSETFROM:+0200
TZOFFSETTO:+0100
TZNAME:CET
DTSTART:20241027T010000
END:STANDARD
BEGIN:DAYLIGHT
TZOFFSETFROM:+0100
TZOFFSETTO:+0200
TZNAME:CEST
DTSTART:20250330T010000
END:DAYLIGHT
BEGIN:STANDARD
TZOFFSETFROM:+0200
TZOFFSETTO:+0100
TZNAME:CET
DTSTART:20251026T010000
END:STANDARD
BEGIN:DAYLIGHT
TZOFFSETFROM:+0100
TZOFFSETTO:+0200
TZNAME:CEST
DTSTART:20260329T010000
END:DAYLIGHT
BEGIN:STANDARD
TZOFFSETFROM:+0200
TZOFFSETTO:+0100
TZNAME:CET
DTSTART:20261025T010000
END:STANDARD
END:VTIMEZONE
BEGIN:VEVENT
DTSTART;VALUE=DATE:20250528
DTEND;VALUE=DATE:20250529
DTSTAMP:20260421T102043
CREATED:20250402T053051Z
LAST-MODIFIED:20250402T053321Z
UID:14286-1748390400-1748476799@erikaboyer.com
SUMMARY:Réédition de 'À vol de souvenirs'
DESCRIPTION:Imprimé en quantité très limitée en 2019\, mon recueil de poésie autobiographie illustré va connaître une réédition permanente ! L’occasion pour vous de découvrir cet ouvrage si précieux pour moi ♡  \n \nIl y a des mots qui ne peuvent être dits\nAutrement qu’en poésie\nJe ne me voyais pas conter ma vie\nD’une autre façon que celle-ci \n \nEn savoir plus : https://erikaboyer.com/a-vol-de-souvenirs/
URL:https://erikaboyer.com/evenement/reedition-de-a-vol-de-souvenirs/
CATEGORIES:Sortie littéraire
ATTACH;FMTTYPE=image/png:https://erikaboyer.com/wp-content/uploads/2025/04/avdscalendrier.png
END:VEVENT
END:VCALENDAR