BEGIN:VCALENDAR
VERSION:2.0
PRODID:-//Erika Boyer - ECPv6.15.20//NONSGML v1.0//EN
CALSCALE:GREGORIAN
METHOD:PUBLISH
X-WR-CALNAME:Erika Boyer
X-ORIGINAL-URL:https://erikaboyer.com
X-WR-CALDESC:Évènements pour Erika Boyer
REFRESH-INTERVAL;VALUE=DURATION:PT1H
X-Robots-Tag:noindex
X-PUBLISHED-TTL:PT1H
BEGIN:VTIMEZONE
TZID:Europe/Paris
BEGIN:DAYLIGHT
TZOFFSETFROM:+0100
TZOFFSETTO:+0200
TZNAME:CEST
DTSTART:20220327T010000
END:DAYLIGHT
BEGIN:STANDARD
TZOFFSETFROM:+0200
TZOFFSETTO:+0100
TZNAME:CET
DTSTART:20221030T010000
END:STANDARD
BEGIN:DAYLIGHT
TZOFFSETFROM:+0100
TZOFFSETTO:+0200
TZNAME:CEST
DTSTART:20230326T010000
END:DAYLIGHT
BEGIN:STANDARD
TZOFFSETFROM:+0200
TZOFFSETTO:+0100
TZNAME:CET
DTSTART:20231029T010000
END:STANDARD
BEGIN:DAYLIGHT
TZOFFSETFROM:+0100
TZOFFSETTO:+0200
TZNAME:CEST
DTSTART:20240331T010000
END:DAYLIGHT
BEGIN:STANDARD
TZOFFSETFROM:+0200
TZOFFSETTO:+0100
TZNAME:CET
DTSTART:20241027T010000
END:STANDARD
END:VTIMEZONE
BEGIN:VEVENT
DTSTART;VALUE=DATE:20230412
DTEND;VALUE=DATE:20230413
DTSTAMP:20260421T173403
CREATED:20230118T005748Z
LAST-MODIFIED:20230322T134119Z
UID:11523-1681257600-1681343999@erikaboyer.com
SUMMARY:Sortie de 'Ce qu'il reste de nous'
DESCRIPTION:Ce qu’il reste de nous est une romance polyamoureuse M/F/F singulière où l’amour\, sous toutes ses formes\, est central. Amitié\, famille\, couple\, trouple\, passion\, amour de soi… toutes ces amours sont le coeur de l’histoire de Jules\, Nicky et Santana ♡ \nRetrouvez les Lost Souls et partez pour un nouveau voyage\, au coeur de la communauté gitane cette fois ! \n \n« En couple depuis leur adolescence\, Jules et Nicky sont aussi amoureux qu’au premier jour et ils ne s’imaginent pas l’un sans l’autre. Pourtant\, une pièce du puzzle manque et son absence est de plus en plus dure à supporter. \nJules ne veut plus rien avoir à faire avec les siens ; ses origines gitanes\, il les a effacées. Nicky a gommé l’idée de trouver un jour son autre moitié ; la femme qui manque à sa vie ne restera qu’un rêve. Pour le bien de leur couple\, pour le bonheur de l’autre\, ils ont tiré un trait sur un morceau de ce qu’ils sont\, quitte à ne plus savoir ce qu’il reste d’eux. \nJusqu’à Santana. \nUn jour\, cette femme débarque\, appareil photo à la main\, anecdotes artistiques au bord des lèvres\, de l’amour à revendre\, une histoire à partager et en elle l’envie que Jules et Nicky réalisent tous leurs rêves et soient enfin pleinement heureux. Mais tout ce qu’elle est et tout ce qu’elle offre pourrait tout aussi bien devenir un cauchemar pour ces trois êtres… » \n \nEn savoir plus : https://erikaboyer.com/ce-quil-reste-de-nous/\nLien d’achat : https://erikaboyer.com/produit/ce-quil-reste-de-nous/
URL:https://erikaboyer.com/evenement/sortie-de-ce-quil-reste-de-nous/
CATEGORIES:Sortie littéraire
ATTACH;FMTTYPE=image/jpeg:https://erikaboyer.com/wp-content/uploads/2023/01/cover.jpg
END:VEVENT
BEGIN:VEVENT
DTSTART;TZID=Europe/Paris:20230415T143000
DTEND;TZID=Europe/Paris:20230415T180000
DTSTAMP:20260421T173403
CREATED:20230225T051407Z
LAST-MODIFIED:20230401T043830Z
UID:11750-1681569000-1681581600@erikaboyer.com
SUMMARY:Rencontre à Toulouse
DESCRIPTION:« Marina Kyem\, Caroline Sicard\, Laëtitia de Zelles\, Tia Wolff et Erika Boyer vous invitent à passer un après-midi avec elles dans la ville rose ♡ \nDès 14 h 30\, nous serons au jardin des plantes et passerons tout l’après-midi à échanger autour des livres avec les lecteur.ice.s. ! » \nAvec mes collègues\, nous avons commencé à organiser des rencontres intimistes autour des livres et voici le deuxième événement que nous avons décidé de tenir. Après Bordeaux\, nous allons à Toulouse pour vous voir\, discuter de nos livres\, échanger avec vous… et tout cela dans la joie et la bonne humeur ! Un moment intimiste qui promet d’être vraiment sympathique ♡ \nPour une question d’organisation\, l’inscription à cet événement était obligatoire\, alors si cela vous intéresse mais que vous n’avez pas rempli le formulaire à temps\, n’hésitez pas à me contacter pour que nous trouvions une solution ensemble ! \n \nRéserver des livres : https://forms.gle/hLgiFUH4LEdvkDQP7
URL:https://erikaboyer.com/evenement/rencontre-a-toulouse/
CATEGORIES:Événement varié
ATTACH;FMTTYPE=image/png:https://erikaboyer.com/wp-content/uploads/2023/02/annonceeventtoulouse.png
END:VEVENT
BEGIN:VEVENT
DTSTART;TZID=Europe/Paris:20230423T160000
DTEND;TZID=Europe/Paris:20230423T180000
DTSTAMP:20260421T173403
CREATED:20230403T051643Z
LAST-MODIFIED:20230406T034626Z
UID:11862-1682265600-1682272800@erikaboyer.com
SUMMARY:Festival du Livre de Paris
DESCRIPTION:Chères festivalières\, chers festivaliers\, \nSi son cœur bat au Grand Palais Éphémère\, le Festival du Livre de Paris se déploie aussi dans plusieurs lieux emblématiques ou insolites de la capitale : Grand Amphithéâtre de la Sorbonne\, Maison de la Poésie\, Académie du Climat\, Espace Cardin…\nVous retrouverez les éditeurs scientifiques au musée des Arts et Métiers\, à deux pas du Pendule de Foucault et les éditeurs religieux dans la magnifique nef du Collège des Bernardins.\nNotons par ailleurs un ambitieux programme avec les bibliothèques de la Ville de Paris.\nEnfin\, rappelons que les Flâneries nous guideront du Café de la Mairie à la Butte Montmartre en passant par les Tuileries et se concluront par un diner littéraire et italien à la Cucina Mutualité ! \nChe programma! \nL’équipe du Festival du Livre de Paris \nCette année\, je participerai au Festival du Livre de Paris en compagnie de ma maison d’édition ! Je serai sur le stand de Hugo Publishing (A2 – AILE EIFFEL)\, le dimanche de 16 heures à 18 heures avec mon nouveau roman\, Ce qu’il reste de nous que je vous dédicacerai avec grand plaisir ♡ \n \nBilleterie : https://www.festivaldulivredeparis.fr/fr/entree-au-grand-palais-ephemere
URL:https://erikaboyer.com/evenement/festival-du-livre-de-paris/
LOCATION:Grand Palais Éphémère\, 2 Pl. Joffre\, Paris\, 75007\, France
CATEGORIES:Salon
ATTACH;FMTTYPE=image/png:https://erikaboyer.com/wp-content/uploads/2023/04/livreparis.png
END:VEVENT
END:VCALENDAR