BEGIN:VCALENDAR
VERSION:2.0
PRODID:-//Erika Boyer - ECPv6.15.20//NONSGML v1.0//EN
CALSCALE:GREGORIAN
METHOD:PUBLISH
X-ORIGINAL-URL:https://erikaboyer.com
X-WR-CALDESC:Évènements pour Erika Boyer
REFRESH-INTERVAL;VALUE=DURATION:PT1H
X-Robots-Tag:noindex
X-PUBLISHED-TTL:PT1H
BEGIN:VTIMEZONE
TZID:Europe/Paris
BEGIN:DAYLIGHT
TZOFFSETFROM:+0100
TZOFFSETTO:+0200
TZNAME:CEST
DTSTART:20240331T010000
END:DAYLIGHT
BEGIN:STANDARD
TZOFFSETFROM:+0200
TZOFFSETTO:+0100
TZNAME:CET
DTSTART:20241027T010000
END:STANDARD
BEGIN:DAYLIGHT
TZOFFSETFROM:+0100
TZOFFSETTO:+0200
TZNAME:CEST
DTSTART:20250330T010000
END:DAYLIGHT
BEGIN:STANDARD
TZOFFSETFROM:+0200
TZOFFSETTO:+0100
TZNAME:CET
DTSTART:20251026T010000
END:STANDARD
BEGIN:DAYLIGHT
TZOFFSETFROM:+0100
TZOFFSETTO:+0200
TZNAME:CEST
DTSTART:20260329T010000
END:DAYLIGHT
BEGIN:STANDARD
TZOFFSETFROM:+0200
TZOFFSETTO:+0100
TZNAME:CET
DTSTART:20261025T010000
END:STANDARD
END:VTIMEZONE
BEGIN:VEVENT
DTSTART;VALUE=DATE:20250201
DTEND;VALUE=DATE:20250203
DTSTAMP:20260421T140428
CREATED:20241002T041327Z
LAST-MODIFIED:20241002T041327Z
UID:13653-1738368000-1738540799@erikaboyer.com
SUMMARY:Salon Breizh Romance
DESCRIPTION:Salon du livre – de la romance dans notre belle région bretonne. \nC’est après des mois de réflexion que nous officialisons ce merveilleux projet d’un salon dédié en grosse partie pour la romance. \nPour la première fois\, je vais me rendre en Bretagne ! J’aurai la joie de participer à la première édition du Salon Breizh Romance\, au cours duquel je vous présenterai mes livres\, vous les dédicacerai\, et bien sûr\, passerai un super moment en votre compagnie ♡
URL:https://erikaboyer.com/evenement/salon-breizh-romance/
LOCATION:Noyal-Pontivy\, Noyal-Pontivy\, 56920
CATEGORIES:Salon
ATTACH;FMTTYPE=image/jpeg:https://erikaboyer.com/wp-content/uploads/2024/10/salonbretagne25.jpg
END:VEVENT
BEGIN:VEVENT
DTSTART;VALUE=DATE:20250226
DTEND;VALUE=DATE:20250227
DTSTAMP:20260421T140428
CREATED:20240916T084928Z
LAST-MODIFIED:20240916T084928Z
UID:13592-1740528000-1740614399@erikaboyer.com
SUMMARY:Sortie de 'L'hypothèse des destins liés'
DESCRIPTION:« Fan de peluches vs ourson grognon\, love coach vs sex shop\, haine vs amour ; des opposés qui semblent pourtant destinés… »\, c’est ce qui représente le mieux L’hypothèse des destins liés\, une comédie romantique M/M\, spin-off de La théorie des coeurs brisés\, qui a elle aussi pour but de vous faire passer un moment agréable et amusant ♡ \n \n« « Les âmes faites pour s’aimer ne peuvent être séparées. » \nC’est l’hypothèse de Rafael\, coach en relations amoureuses\, et il y croit dur comme fer. Solaire\, joueur et déterminé\, il est prêt à tout pour obtenir ce qu’il veut et il est convaincu que ceux qui sont liés finissent toujours par se retrouver. \nQuitte à forcer un peu les choses. \nAlors quand il revoit Shawn\, devenu propriétaire d’un sex shop\, il décide de ne plus le lâcher\, au grand désespoir de ce dernier\, qui ne veut surtout pas que son passé le rattrape. Grognon\, froid et facilement irritable\, il ne supporte pas la présence de Rafael et rejette l’idée que les âmes sœurs puissent exister. \nCes deux opposés sont-ils destinés ? C’est ce que l’un voudra prouver et l’autre réfuter ! » \n \nEn savoir plus : https://erikaboyer.com/lhypothese-des-destins-lies/
URL:https://erikaboyer.com/evenement/sortie-de-lhypothese-des-destins-lies/
CATEGORIES:Sortie littéraire
ATTACH;FMTTYPE=image/png:https://erikaboyer.com/wp-content/uploads/2024/09/lhddlcal.png
END:VEVENT
END:VCALENDAR